BEGIN:VCALENDAR
VERSION:2.0
PRODID:-//Jaringan AKSI - ECPv6.2.3//NONSGML v1.0//EN
CALSCALE:GREGORIAN
METHOD:PUBLISH
X-WR-CALNAME:Jaringan AKSI
X-ORIGINAL-URL:https://jaringanaksi.com
X-WR-CALDESC:Events for Jaringan AKSI
REFRESH-INTERVAL;VALUE=DURATION:PT1H
X-Robots-Tag:noindex
X-PUBLISHED-TTL:PT1H
BEGIN:VTIMEZONE
TZID:UTC
BEGIN:STANDARD
TZOFFSETFROM:+0000
TZOFFSETTO:+0000
TZNAME:UTC
DTSTART:20170101T000000
END:STANDARD
END:VTIMEZONE
BEGIN:VEVENT
DTSTART;TZID=UTC:20171201T080000
DTEND;TZID=UTC:20171203T170000
DTSTAMP:20260425T005615
CREATED:20171201T010000Z
LAST-MODIFIED:20171201T010000Z
UID:13770-1512115200-1512320400@jaringanaksi.com
SUMMARY:Give a Little Joy
DESCRIPTION:Cras dapibus ullamcorper dictum. Vivamus nec erat placerat felis scelerisque porttitor in ac turpis. In nec imperdiet turpis. Suspendisse quis orci ut orci pulvinar eleifend. Nulla eu mattis ipsum. Integer eget sagittis nulla.Praesent consectetur lacus et maximus eleifend. Integer non lacus dui. Mauris tortor diam\, laoreet quis commodo vitae\, sodales vel augue.
URL:https://jaringanaksi.com/event/give-a-little-joy/
LOCATION:Brooklyn\, NY 10036 New York\, NY 10019 United States\, Brooklyn\, NY 10036\, New York\, United States
CATEGORIES:Children
ATTACH;FMTTYPE=image/jpeg:https://jaringanaksi.com/wp-content/uploads/2015/10/05-3.jpg
ORGANIZER;CN="Nick Sims":MAILTO:sims@example.com
END:VEVENT
BEGIN:VEVENT
DTSTART;TZID=UTC:20170801T110000
DTEND;TZID=UTC:20170803T130000
DTSTAMP:20260425T005615
CREATED:20170801T040000Z
LAST-MODIFIED:20170801T040000Z
UID:10792-1501585200-1501765200@jaringanaksi.com
SUMMARY:Young Artist
DESCRIPTION:Cras dapibus ullamcorper dictum. Vivamus nec erat placerat felis scelerisque porttitor in ac turpis. In nec imperdiet turpis. Suspendisse quis orci ut orci pulvinar eleifend. Nulla eu mattis ipsum. Integer eget sagittis nulla.Praesent consectetur lacus et maximus eleifend. Integer non lacus dui.Mauris tortor diam\, laoreet quis commodo vitae\, sodales vel augue.
URL:https://jaringanaksi.com/event/young-artist/
LOCATION:Brooklyn\, NY 10036 New York\, NY 10019 United States\, Brooklyn\, NY 10036\, New York\, United States
CATEGORIES:Children
ATTACH;FMTTYPE=image/jpeg:https://jaringanaksi.com/wp-content/uploads/2015/10/01-3.jpg
ORGANIZER;CN="Nick Sims":MAILTO:sims@example.com
END:VEVENT
BEGIN:VEVENT
DTSTART;TZID=UTC:20170630T080000
DTEND;TZID=UTC:20170630T170000
DTSTAMP:20260425T005615
CREATED:20170630T010000Z
LAST-MODIFIED:20170630T010000Z
UID:15476-1498809600-1498842000@jaringanaksi.com
SUMMARY:Sale of Cookies
DESCRIPTION:Cras dapibus ullamcorper dictum. Vivamus nec erat placerat felis scelerisque porttitor in ac turpis. In nec imperdiet turpis. Suspendisse quis orci ut orci pulvinar eleifend. Nulla eu mattis ipsum. Integer eget sagittis nulla. Praesent consectetur lacus et maximus eleifend. Integer non lacus dui. Mauris tortor diam\, laoreet quis commodo vitae\, sodales vel augue.
URL:https://jaringanaksi.com/event/sale-of-cookies/
LOCATION:Brooklyn\, NY 10036 New York\, NY 10019 United States\, Brooklyn\, NY 10036\, New York\, United States
CATEGORIES:Children
ATTACH;FMTTYPE=image/jpeg:https://jaringanaksi.com/wp-content/uploads/2015/10/05-3.jpg
ORGANIZER;CN="Nick Sims":MAILTO:sims@example.com
END:VEVENT
END:VCALENDAR